Workbook

Sheet Trades
A1: Journal de trading | D1: Les lignes 4–8 sont des exemples, de vrais trades de l’auteur sur Binance : supprimez-les entièrement. Les colonnes blanches sont à vous, les grises se calculent seules. Les heures sont en UTC. Détails sur la feuille « Mode d’emploi ». | U1: Modèle de FOQUS · foqus.pro/fr/modele-journal-de-trading
A2: Trade | D2: À l’entrée | K2: À la sortie | O2: Calculé | U2: Analyse | AA2: Courbe de capital et semaines : calculées
A3: Ouverture, UTC | B3: Symbole | C3: Sens | D3: Exchange | E3: Entrée | F3: Quantité | G3: Taille de contrat | H3: Stop | I3: Take profit | J3: Solde à l’entrée, $ | K3: Clôture, UTC | L3: Sortie | M3: Frais, $ | N3: Funding / swap, $ | O3: Risque, $ | P3: Risque, % du solde | Q3: PnL brut, $ | R3: PnL net, $ | S3: R | T3: PnL, % du solde | U3: Setup | V3: Erreur | W3: Émotion | X3: Conviction, 1–5 | Y3: Commentaire | Z3: Capture d’écran | AA3: Cumul, $ | AB3: Drawdown, $ | AC3: Semaine du
A4: 46262.11 | B4: BTRUSDT | C4: LONG | D4: Binance | E4: 0.1573143 | F4: 193652 | H4: 0.14698 | I4: 0.17796 | K4: 46262.529 | L4: 0.1647912 | M4: 31.19 | N4: -44.82 | O4: =IF(OR(E4="",F4="",H4=""),"",ABS(E4-H4)*F4*IF(G4="",1,G4)) -> 2001.2579 | P4: =IF(AND(ISNUMBER(O4),ISNUMBER(J4)),IF(J4>0,O4/J4,""),"") | Q4: =IF(OR(E4="",F4="",L4=""),"",IF(OR(C4="LONG",C4="SHORT"),(L4-E4)*F4*IF(G4="",1,G4)*IF(C4="SHORT",-1,1),"sens manquant")) -> 1447.9166 | R4: =IF(ISNUMBER(Q4),Q4-M4+N4,"") -> 1371.9066 | S4: =IF(AND(ISNUMBER(R4),ISNUMBER(O4)),IF(O4>0,R4/O4,""),"") -> 0.68552217 | T4: =IF(AND(ISNUMBER(R4),ISNUMBER(J4)),IF(J4>0,R4/J4,""),"") | Y4: EXEMPLE : supprimez cette ligne. Un vrai trade de l’auteur, #104. Clôturé entre le stop et l’objectif, sans atteindre ni l’un ni l’autre. | AA4: =IF(ISNUMBER(R4),SUM(R$4:R4),"") -> 1371.9066 | AB4: =IF(ISNUMBER(AA4),AA4-MAX(0,MAX(AA$4:AA4)),"") -> 0 | AC4: =IF(ISNUMBER(K4),INT(K4)-WEEKDAY(K4,2)+1,IF(ISNUMBER(A4),INT(A4)-WEEKDAY(A4,2)+1,"")) -> 46258
A5: 46262.581 | B5: BTRUSDT | C5: LONG | D5: Binance | E5: 0.1644271 | F5: 229766 | H5: 0.16007 | I5: 0.17313 | K5: 46262.652 | L5: 0.1567024 | M5: 36.89 | N5: 0 | O5: =IF(OR(E5="",F5="",H5=""),"",ABS(E5-H5)*F5*IF(G5="",1,G5)) -> 1001.1134 | P5: =IF(AND(ISNUMBER(O5),ISNUMBER(J5)),IF(J5>0,O5/J5,""),"") | Q5: =IF(OR(E5="",F5="",L5=""),"",IF(OR(C5="LONG",C5="SHORT"),(L5-E5)*F5*IF(G5="",1,G5)*IF(C5="SHORT",-1,1),"sens manquant")) -> -1774.8734 | R5: =IF(ISNUMBER(Q5),Q5-M5+N5,"") -> -1811.7634 | S5: =IF(AND(ISNUMBER(R5),ISNUMBER(O5)),IF(O5>0,R5/O5,""),"") -> -1.8097484 | T5: =IF(AND(ISNUMBER(R5),ISNUMBER(J5)),IF(J5>0,R5/J5,""),"") | Y5: EXEMPLE : supprimez cette ligne. #136 : retour en position 1 h 14 min plus tard. Le stop s’est exécuté 2,1 % plus mal que son prix : une perte supérieure à 1R. | AA5: =IF(ISNUMBER(R5),SUM(R$4:R5),"") -> -439.85678 | AB5: =IF(ISNUMBER(AA5),AA5-MAX(0,MAX(AA$4:AA5)),"") -> -1811.7634 | AC5: =IF(ISNUMBER(K5),INT(K5)-WEEKDAY(K5,2)+1,IF(ISNUMBER(A5),INT(A5)-WEEKDAY(A5,2)+1,"")) -> 46258
A6: 46267.974 | B6: AKEUSDT | C6: SHORT | D6: Binance | E6: 0.0161241 | F6: 2376648 | H6: 0.017176 | K6: 46268.024 | L6: 0.0148573 | M6: 36.82 | N6: 1.97 | O6: =IF(OR(E6="",F6="",H6=""),"",ABS(E6-H6)*F6*IF(G6="",1,G6)) -> 2499.996 | P6: =IF(AND(ISNUMBER(O6),ISNUMBER(J6)),IF(J6>0,O6/J6,""),"") | Q6: =IF(OR(E6="",F6="",L6=""),"",IF(OR(C6="LONG",C6="SHORT"),(L6-E6)*F6*IF(G6="",1,G6)*IF(C6="SHORT",-1,1),"sens manquant")) -> 3010.7377 | R6: =IF(ISNUMBER(Q6),Q6-M6+N6,"") -> 2975.8877 | S6: =IF(AND(ISNUMBER(R6),ISNUMBER(O6)),IF(O6>0,R6/O6,""),"") -> 1.190357 | T6: =IF(AND(ISNUMBER(R6),ISNUMBER(J6)),IF(J6>0,R6/J6,""),"") | Y6: EXEMPLE : supprimez cette ligne. #897, un short : le PnL prend le signe opposé. Le prix a presque atteint le stop, puis le trade est passé en profit. | AA6: =IF(ISNUMBER(R6),SUM(R$4:R6),"") -> 2536.0309 | AB6: =IF(ISNUMBER(AA6),AA6-MAX(0,MAX(AA$4:AA6)),"") -> 0 | AC6: =IF(ISNUMBER(K6),INT(K6)-WEEKDAY(K6,2)+1,IF(ISNUMBER(A6),INT(A6)-WEEKDAY(A6,2)+1,"")) -> 46265
A7: 46268.724 | B7: MARSCOINUSDT | C7: LONG | D7: Binance | E7: 0.1063839 | F7: 508858 | I7: 0.125 | K7: 46268.893 | L7: 0.1146575 | M7: 56.24 | N7: -4.88 | O7: =IF(OR(E7="",F7="",H7=""),"",ABS(E7-H7)*F7*IF(G7="",1,G7)) | P7: =IF(AND(ISNUMBER(O7),ISNUMBER(J7)),IF(J7>0,O7/J7,""),"") | Q7: =IF(OR(E7="",F7="",L7=""),"",IF(OR(C7="LONG",C7="SHORT"),(L7-E7)*F7*IF(G7="",1,G7)*IF(C7="SHORT",-1,1),"sens manquant")) -> 4210.0875 | R7: =IF(ISNUMBER(Q7),Q7-M7+N7,"") -> 4148.9675 | S7: =IF(AND(ISNUMBER(R7),ISNUMBER(O7)),IF(O7>0,R7/O7,""),"") | T7: =IF(AND(ISNUMBER(R7),ISNUMBER(J7)),IF(J7>0,R7/J7,""),"") | V7: Sans stop | Y7: EXEMPLE : supprimez cette ligne. #1138 : pas de stop à la clôture, donc ni risque ni R. | AA7: =IF(ISNUMBER(R7),SUM(R$4:R7),"") -> 6684.9985 | AB7: =IF(ISNUMBER(AA7),AA7-MAX(0,MAX(AA$4:AA7)),"") -> 0 | AC7: =IF(ISNUMBER(K7),INT(K7)-WEEKDAY(K7,2)+1,IF(ISNUMBER(A7),INT(A7)-WEEKDAY(A7,2)+1,"")) -> 46265
A8: 46269.899 | B8: MARSCOINUSDT | C8: LONG | D8: Binance | E8: 0.1916575 | F8: 505214 | H8: 0.18564 | I8: 0.2668 | K8: 46270.026 | L8: 0.184977 | M8: 95.14 | N8: -47.64 | O8: =IF(OR(E8="",F8="",H8=""),"",ABS(E8-H8)*F8*IF(G8="",1,G8)) -> 3040.1252 | P8: =IF(AND(ISNUMBER(O8),ISNUMBER(J8)),IF(J8>0,O8/J8,""),"") | Q8: =IF(OR(E8="",F8="",L8=""),"",IF(OR(C8="LONG",C8="SHORT"),(L8-E8)*F8*IF(G8="",1,G8)*IF(C8="SHORT",-1,1),"sens manquant")) -> -3375.0821 | R8: =IF(ISNUMBER(Q8),Q8-M8+N8,"") -> -3517.8621 | S8: =IF(AND(ISNUMBER(R8),ISNUMBER(O8)),IF(O8>0,R8/O8,""),"") -> -1.1571438 | T8: =IF(AND(ISNUMBER(R8),ISNUMBER(J8)),IF(J8>0,R8/J8,""),"") | Y8: EXEMPLE : supprimez cette ligne. #2011 : le stop s’est exécuté plus mal que son prix, alors qu’à son sommet le trade était à +2,49R. | AA8: =IF(ISNUMBER(R8),SUM(R$4:R8),"") -> 3167.1363 | AB8: =IF(ISNUMBER(AA8),AA8-MAX(0,MAX(AA$4:AA8)),"") -> -3517.8621 | AC8: =IF(ISNUMBER(K8),INT(K8)-WEEKDAY(K8,2)+1,IF(ISNUMBER(A8),INT(A8)-WEEKDAY(A8,2)+1,"")) -> 46265
O9: =IF(OR(E9="",F9="",H9=""),"",ABS(E9-H9)*F9*IF(G9="",1,G9)) | P9: =IF(AND(ISNUMBER(O9),ISNUMBER(J9)),IF(J9>0,O9/J9,""),"") | Q9: =IF(OR(E9="",F9="",L9=""),"",IF(OR(C9="LONG",C9="SHORT"),(L9-E9)*F9*IF(G9="",1,G9)*IF(C9="SHORT",-1,1),"sens manquant")) | R9: =IF(ISNUMBER(Q9),Q9-M9+N9,"") | S9: =IF(AND(ISNUMBER(R9),ISNUMBER(O9)),IF(O9>0,R9/O9,""),"") | T9: =IF(AND(ISNUMBER(R9),ISNUMBER(J9)),IF(J9>0,R9/J9,""),"") | AA9: =IF(ISNUMBER(R9),SUM(R$4:R9),"") | AB9: =IF(ISNUMBER(AA9),AA9-MAX(0,MAX(AA$4:AA9)),"") | AC9: =IF(ISNUMBER(K9),INT(K9)-WEEKDAY(K9,2)+1,IF(ISNUMBER(A9),INT(A9)-WEEKDAY(A9,2)+1,""))
O10: =IF(OR(E10="",F10="",H10=""),"",ABS(E10-H10)*F10*IF(G10="",1,G10)) | P10: =IF(AND(ISNUMBER(O10),ISNUMBER(J10)),IF(J10>0,O10/J10,""),"") | Q10: =IF(OR(E10="",F10="",L10=""),"",IF(OR(C10="LONG",C10="SHORT"),(L10-E10)*F10*IF(G10="",1,G10)*IF(C10="SHORT",-1,1),"sens manquant")) | R10: =IF(ISNUMBER(Q10),Q10-M10+N10,"") | S10: =IF(AND(ISNUMBER(R10),ISNUMBER(O10)),IF(O10>0,R10/O10,""),"") | T10: =IF(AND(ISNUMBER(R10),ISNUMBER(J10)),IF(J10>0,R10/J10,""),"") | AA10: =IF(ISNUMBER(R10),SUM(R$4:R10),"") | AB10: =IF(ISNUMBER(AA10),AA10-MAX(0,MAX(AA$4:AA10)),"") | AC10: =IF(ISNUMBER(K10),INT(K10)-WEEKDAY(K10,2)+1,IF(ISNUMBER(A10),INT(A10)-WEEKDAY(A10,2)+1,""))
O11: =IF(OR(E11="",F11="",H11=""),"",ABS(E11-H11)*F11*IF(G11="",1,G11)) | P11: =IF(AND(ISNUMBER(O11),ISNUMBER(J11)),IF(J11>0,O11/J11,""),"") | Q11: =IF(OR(E11="",F11="",L11=""),"",IF(OR(C11="LONG",C11="SHORT"),(L11-E11)*F11*IF(G11="",1,G11)*IF(C11="SHORT",-1,1),"sens manquant")) | R11: =IF(ISNUMBER(Q11),Q11-M11+N11,"") | S11: =IF(AND(ISNUMBER(R11),ISNUMBER(O11)),IF(O11>0,R11/O11,""),"") | T11: =IF(AND(ISNUMBER(R11),ISNUMBER(J11)),IF(J11>0,R11/J11,""),"") | AA11: =IF(ISNUMBER(R11),SUM(R$4:R11),"") | AB11: =IF(ISNUMBER(AA11),AA11-MAX(0,MAX(AA$4:AA11)),"") | AC11: =IF(ISNUMBER(K11),INT(K11)-WEEKDAY(K11,2)+1,IF(ISNUMBER(A11),INT(A11)-WEEKDAY(A11,2)+1,""))
O12: =IF(OR(E12="",F12="",H12=""),"",ABS(E12-H12)*F12*IF(G12="",1,G12)) | P12: =IF(AND(ISNUMBER(O12),ISNUMBER(J12)),IF(J12>0,O12/J12,""),"") | Q12: =IF(OR(E12="",F12="",L12=""),"",IF(OR(C12="LONG",C12="SHORT"),(L12-E12)*F12*IF(G12="",1,G12)*IF(C12="SHORT",-1,1),"sens manquant")) | R12: =IF(ISNUMBER(Q12),Q12-M12+N12,"") | S12: =IF(AND(ISNUMBER(R12),ISNUMBER(O12)),IF(O12>0,R12/O12,""),"") | T12: =IF(AND(ISNUMBER(R12),ISNUMBER(J12)),IF(J12>0,R12/J12,""),"") | AA12: =IF(ISNUMBER(R12),SUM(R$4:R12),"") | AB12: =IF(ISNUMBER(AA12),AA12-MAX(0,MAX(AA$4:AA12)),"") | AC12: =IF(ISNUMBER(K12),INT(K12)-WEEKDAY(K12,2)+1,IF(ISNUMBER(A12),INT(A12)-WEEKDAY(A12,2)+1,""))
O13: =IF(OR(E13="",F13="",H13=""),"",ABS(E13-H13)*F13*IF(G13="",1,G13)) | P13: =IF(AND(ISNUMBER(O13),ISNUMBER(J13)),IF(J13>0,O13/J13,""),"") | Q13: =IF(OR(E13="",F13="",L13=""),"",IF(OR(C13="LONG",C13="SHORT"),(L13-E13)*F13*IF(G13="",1,G13)*IF(C13="SHORT",-1,1),"sens manquant")) | R13: =IF(ISNUMBER(Q13),Q13-M13+N13,"") | S13: =IF(AND(ISNUMBER(R13),ISNUMBER(O13)),IF(O13>0,R13/O13,""),"") | T13: =IF(AND(ISNUMBER(R13),ISNUMBER(J13)),IF(J13>0,R13/J13,""),"") | AA13: =IF(ISNUMBER(R13),SUM(R$4:R13),"") | AB13: =IF(ISNUMBER(AA13),AA13-MAX(0,MAX(AA$4:AA13)),"") | AC13: =IF(ISNUMBER(K13),INT(K13)-WEEKDAY(K13,2)+1,IF(ISNUMBER(A13),INT(A13)-WEEKDAY(A13,2)+1,""))
O14: =IF(OR(E14="",F14="",H14=""),"",ABS(E14-H14)*F14*IF(G14="",1,G14)) | P14: =IF(AND(ISNUMBER(O14),ISNUMBER(J14)),IF(J14>0,O14/J14,""),"") | Q14: =IF(OR(E14="",F14="",L14=""),"",IF(OR(C14="LONG",C14="SHORT"),(L14-E14)*F14*IF(G14="",1,G14)*IF(C14="SHORT",-1,1),"sens manquant")) | R14: =IF(ISNUMBER(Q14),Q14-M14+N14,"") | S14: =IF(AND(ISNUMBER(R14),ISNUMBER(O14)),IF(O14>0,R14/O14,""),"") | T14: =IF(AND(ISNUMBER(R14),ISNUMBER(J14)),IF(J14>0,R14/J14,""),"") | AA14: =IF(ISNUMBER(R14),SUM(R$4:R14),"") | AB14: =IF(ISNUMBER(AA14),AA14-MAX(0,MAX(AA$4:AA14)),"") | AC14: =IF(ISNUMBER(K14),INT(K14)-WEEKDAY(K14,2)+1,IF(ISNUMBER(A14),INT(A14)-WEEKDAY(A14,2)+1,""))
O15: =IF(OR(E15="",F15="",H15=""),"",ABS(E15-H15)*F15*IF(G15="",1,G15)) | P15: =IF(AND(ISNUMBER(O15),ISNUMBER(J15)),IF(J15>0,O15/J15,""),"") | Q15: =IF(OR(E15="",F15="",L15=""),"",IF(OR(C15="LONG",C15="SHORT"),(L15-E15)*F15*IF(G15="",1,G15)*IF(C15="SHORT",-1,1),"sens manquant")) | R15: =IF(ISNUMBER(Q15),Q15-M15+N15,"") | S15: =IF(AND(ISNUMBER(R15),ISNUMBER(O15)),IF(O15>0,R15/O15,""),"") | T15: =IF(AND(ISNUMBER(R15),ISNUMBER(J15)),IF(J15>0,R15/J15,""),"") | AA15: =IF(ISNUMBER(R15),SUM(R$4:R15),"") | AB15: =IF(ISNUMBER(AA15),AA15-MAX(0,MAX(AA$4:AA15)),"") | AC15: =IF(ISNUMBER(K15),INT(K15)-WEEKDAY(K15,2)+1,IF(ISNUMBER(A15),INT(A15)-WEEKDAY(A15,2)+1,""))
O16: =IF(OR(E16="",F16="",H16=""),"",ABS(E16-H16)*F16*IF(G16="",1,G16)) | P16: =IF(AND(ISNUMBER(O16),ISNUMBER(J16)),IF(J16>0,O16/J16,""),"") | Q16: =IF(OR(E16="",F16="",L16=""),"",IF(OR(C16="LONG",C16="SHORT"),(L16-E16)*F16*IF(G16="",1,G16)*IF(C16="SHORT",-1,1),"sens manquant")) | R16: =IF(ISNUMBER(Q16),Q16-M16+N16,"") | S16: =IF(AND(ISNUMBER(R16),ISNUMBER(O16)),IF(O16>0,R16/O16,""),"") | T16: =IF(AND(ISNUMBER(R16),ISNUMBER(J16)),IF(J16>0,R16/J16,""),"") | AA16: =IF(ISNUMBER(R16),SUM(R$4:R16),"") | AB16: =IF(ISNUMBER(AA16),AA16-MAX(0,MAX(AA$4:AA16)),"") | AC16: =IF(ISNUMBER(K16),INT(K16)-WEEKDAY(K16,2)+1,IF(ISNUMBER(A16),INT(A16)-WEEKDAY(A16,2)+1,""))
O17: =IF(OR(E17="",F17="",H17=""),"",ABS(E17-H17)*F17*IF(G17="",1,G17)) | P17: =IF(AND(ISNUMBER(O17),ISNUMBER(J17)),IF(J17>0,O17/J17,""),"") | Q17: =IF(OR(E17="",F17="",L17=""),"",IF(OR(C17="LONG",C17="SHORT"),(L17-E17)*F17*IF(G17="",1,G17)*IF(C17="SHORT",-1,1),"sens manquant")) | R17: =IF(ISNUMBER(Q17),Q17-M17+N17,"") | S17: =IF(AND(ISNUMBER(R17),ISNUMBER(O17)),IF(O17>0,R17/O17,""),"") | T17: =IF(AND(ISNUMBER(R17),ISNUMBER(J17)),IF(J17>0,R17/J17,""),"") | AA17: =IF(ISNUMBER(R17),SUM(R$4:R17),"") | AB17: =IF(ISNUMBER(AA17),AA17-MAX(0,MAX(AA$4:AA17)),"") | AC17: =IF(ISNUMBER(K17),INT(K17)-WEEKDAY(K17,2)+1,IF(ISNUMBER(A17),INT(A17)-WEEKDAY(A17,2)+1,""))
O18: =IF(OR(E18="",F18="",H18=""),"",ABS(E18-H18)*F18*IF(G18="",1,G18)) | P18: =IF(AND(ISNUMBER(O18),ISNUMBER(J18)),IF(J18>0,O18/J18,""),"") | Q18: =IF(OR(E18="",F18="",L18=""),"",IF(OR(C18="LONG",C18="SHORT"),(L18-E18)*F18*IF(G18="",1,G18)*IF(C18="SHORT",-1,1),"sens manquant")) | R18: =IF(ISNUMBER(Q18),Q18-M18+N18,"") | S18: =IF(AND(ISNUMBER(R18),ISNUMBER(O18)),IF(O18>0,R18/O18,""),"") | T18: =IF(AND(ISNUMBER(R18),ISNUMBER(J18)),IF(J18>0,R18/J18,""),"") | AA18: =IF(ISNUMBER(R18),SUM(R$4:R18),"") | AB18: =IF(ISNUMBER(AA18),AA18-MAX(0,MAX(AA$4:AA18)),"") | AC18: =IF(ISNUMBER(K18),INT(K18)-WEEKDAY(K18,2)+1,IF(ISNUMBER(A18),INT(A18)-WEEKDAY(A18,2)+1,""))
O19: =IF(OR(E19="",F19="",H19=""),"",ABS(E19-H19)*F19*IF(G19="",1,G19)) | P19: =IF(AND(ISNUMBER(O19),ISNUMBER(J19)),IF(J19>0,O19/J19,""),"") | Q19: =IF(OR(E19="",F19="",L19=""),"",IF(OR(C19="LONG",C19="SHORT"),(L19-E19)*F19*IF(G19="",1,G19)*IF(C19="SHORT",-1,1),"sens manquant")) | R19: =IF(ISNUMBER(Q19),Q19-M19+N19,"") | S19: =IF(AND(ISNUMBER(R19),ISNUMBER(O19)),IF(O19>0,R19/O19,""),"") | T19: =IF(AND(ISNUMBER(R19),ISNUMBER(J19)),IF(J19>0,R19/J19,""),"") | AA19: =IF(ISNUMBER(R19),SUM(R$4:R19),"") | AB19: =IF(ISNUMBER(AA19),AA19-MAX(0,MAX(AA$4:AA19)),"") | AC19: =IF(ISNUMBER(K19),INT(K19)-WEEKDAY(K19,2)+1,IF(ISNUMBER(A19),INT(A19)-WEEKDAY(A19,2)+1,""))
O20: =IF(OR(E20="",F20="",H20=""),"",ABS(E20-H20)*F20*IF(G20="",1,G20)) | P20: =IF(AND(ISNUMBER(O20),ISNUMBER(J20)),IF(J20>0,O20/J20,""),"") | Q20: =IF(OR(E20="",F20="",L20=""),"",IF(OR(C20="LONG",C20="SHORT"),(L20-E20)*F20*IF(G20="",1,G20)*IF(C20="SHORT",-1,1),"sens manquant")) | R20: =IF(ISNUMBER(Q20),Q20-M20+N20,"") | S20: =IF(AND(ISNUMBER(R20),ISNUMBER(O20)),IF(O20>0,R20/O20,""),"") | T20: =IF(AND(ISNUMBER(R20),ISNUMBER(J20)),IF(J20>0,R20/J20,""),"") | AA20: =IF(ISNUMBER(R20),SUM(R$4:R20),"") | AB20: =IF(ISNUMBER(AA20),AA20-MAX(0,MAX(AA$4:AA20)),"") | AC20: =IF(ISNUMBER(K20),INT(K20)-WEEKDAY(K20,2)+1,IF(ISNUMBER(A20),INT(A20)-WEEKDAY(A20,2)+1,""))
... O1003: =IF(OR(E1003="",F1003="",H1003=""),"",ABS(E1003-H1003)*F1003*IF(G1003="",1,G1003)) | P1003: =IF(AND(ISNUMBER(O1003),ISNUMBER(J1003)),IF(J1003>0,O1003/J1003,""),"") | Q1003: =IF(OR(E1003="",F1003="",L1003=""),"",IF(OR(C1003="LONG",C1003="SHORT"),(L1003-E1003)*F1003*IF(G1003="",1,G1003)*IF(C1003="SHORT",-1,1),"sens manquant")) | R1003: =IF(ISNUMBER(Q1003),Q1003-M1003+N1003,"") | S1003: =IF(AND(ISNUMBER(R1003),ISNUMBER(O1003)),IF(O1003>0,R1003/O1003,""),"") | T1003: =IF(AND(ISNUMBER(R1003),ISNUMBER(J1003)),IF(J1003>0,R1003/J1003,""),"") | AA1003: =IF(ISNUMBER(R1003),SUM(R$4:R1003),"") | AB1003: =IF(ISNUMBER(AA1003),AA1003-MAX(0,MAX(AA$4:AA1003)),"") | AC1003: =IF(ISNUMBER(K1003),INT(K1003)-WEEKDAY(K1003,2)+1,IF(ISNUMBER(A1003),INT(A1003)-WEEKDAY(A1003,2)+1,""))

Sheet Statistiques
A1: Statistiques
A2: Calculées à partir de la feuille « Trades ». Seuls les trades clôturés comptent, ceux qui ont un prix de sortie. Les lignes d’exemple comptent aussi : supprimez-les quand vous commencez votre propre journal.
A4: Chiffres clés
A5: Trades clôturés | B5: =COUNT('Trades'!$R$4:$R$1003) -> 5 | C5: Les trades qui ont un prix de sortie. Les trades ouverts sont exclus.
A6: Gagnants | B6: =COUNTIF('Trades'!$R$4:$R$1003,">0") -> 3 | C6: PnL net supérieur à zéro.
A7: Perdants | B7: =COUNTIF('Trades'!$R$4:$R$1003,"<0") -> 2 | C7: PnL net inférieur à zéro.
A8: Taux de réussite | B8: =IF(B5=0,"—",B6/B5) -> 0.6 | C8: Gagnants ÷ tous les trades clôturés. À lire avec « Gain moyen ÷ perte moyenne ».
A9: PnL brut, $ | B9: =SUM('Trades'!$Q$4:$Q$1003) -> 3518.7863 | C9: Le résultat aux prix d’entrée et de sortie, avant frais et funding.
A10: Frais, $ | B10: =SUMIFS('Trades'!$M$4:$M$1003,'Trades'!$Q$4:$Q$1003,">=0")+SUMIFS('Trades'!$M$4:$M$1003,'Trades'!$Q$4:$Q$1003,"<0") -> 256.28 | C10: Payés à l’exchange ou au broker sur les trades clôturés.
A11: Funding et swap, $ | B11: =SUMIFS('Trades'!$N$4:$N$1003,'Trades'!$Q$4:$Q$1003,">=0")+SUMIFS('Trades'!$N$4:$N$1003,'Trades'!$Q$4:$Q$1003,"<0") -> -95.37 | C11: Reçus (+) ou payés (−) pour la détention des positions.
A12: PnL net, $ | B12: =SUM('Trades'!$R$4:$R$1003) -> 3167.1363 | C12: PnL brut − frais + funding. Ce qui est arrivé sur le compte.
A13: Gain moyen, $ | B13: =IF(B6=0,"—",SUMIF('Trades'!$R$4:$R$1003,">0")/B6) -> 2832.254 | C13: Le PnL net moyen d’un trade gagnant.
A14: Perte moyenne, $ | B14: =IF(B7=0,"—",SUMIF('Trades'!$R$4:$R$1003,"<0")/B7) -> -2664.8128 | C14: Le PnL net moyen d’un trade perdant.
A15: Gain moyen ÷ perte moyenne | B15: =IF(OR(B6=0,B7=0),"—",B13/-B14) -> 1.0628341 | C15: Combien de fois le gain moyen est plus grand que la perte moyenne.
A16: Profit factor | B16: =IF(B7=0,"—",SUMIF('Trades'!$R$4:$R$1003,">0")/-SUMIF('Trades'!$R$4:$R$1003,"<0")) -> 1.5942512 | C16: Tous les profits ÷ toutes les pertes. Au-dessus de 1, le total est positif.
A17: Espérance, $ par trade | B17: =IF(B5=0,"—",B12/B5) -> 633.42727 | C17: Ce qu’un trade rapporte en moyenne.
A18: Espérance, R | B18: =IF(COUNT('Trades'!$S$4:$S$1003)=0,"—",AVERAGE('Trades'!$S$4:$S$1003)) -> -0.27275326 | C18: Le R moyen : ce qu’un trade rapporte en moyenne, mesuré en risque. Au-dessus de zéro, le système gagne de l’argent.
A19: Total R | B19: =SUM('Trades'!$S$4:$S$1003) -> -1.0910131 | C19: Tous les R additionnés.
A20: Trades sans stop | B20: =B5-COUNT('Trades'!$S$4:$S$1003) -> 1 | C20: Leur R ne peut pas être calculé. Moins il y en a, plus les statistiques sont précises.
A21: Drawdown max., $ | B21: =MIN('Trades'!$AB$4:$AB$1003) -> -3517.8621 | C21: La plus forte baisse du cumul depuis son sommet.
A22: Meilleur trade, $ | B22: =IF(B5=0,"—",MAX('Trades'!$R$4:$R$1003)) -> 4148.9675 | C22: Le trade le plus rentable.
A23: Pire trade, $ | B23: =IF(B5=0,"—",MIN('Trades'!$R$4:$R$1003)) -> -3517.8621 | C23: Le trade le plus perdant.
A25: Par erreur : ce que coûte chacune
A26: Erreur | B26: Trades | C26: Taux de réussite | D26: Net, $ | E26: Net moyen, $ | F26: R moyen
A27: Sans erreur | B27: =COUNTIFS('Trades'!$V$4:$V$1003,"",'Trades'!$R$4:$R$1003,">=0")+COUNTIFS('Trades'!$V$4:$V$1003,"",'Trades'!$R$4:$R$1003,"<0") -> 4 | C27: =IF(B27=0,"—",COUNTIFS('Trades'!$V$4:$V$1003,"",'Trades'!$R$4:$R$1003,">0")/B27) -> 0.5 | D27: =IF(B27=0,"—",SUMIFS('Trades'!$R$4:$R$1003,'Trades'!$V$4:$V$1003,"")) -> -981.83122 | E27: =IF(B27=0,"—",D27/B27) -> -245.45781 | F27: =IF(COUNTIFS('Trades'!$V$4:$V$1003,"",'Trades'!$S$4:$S$1003,">=0")+COUNTIFS('Trades'!$V$4:$V$1003,"",'Trades'!$S$4:$S$1003,"<0")=0,"—",SUMIFS('Trades'!$S$4:$S$1003,'Trades'!$V$4:$V$1003,"")/(COUNTIFS('Trades'!$V$4:$V$1003,"",'Trades'!$S$4:$S$1003,">=0")+COUNTIFS('Trades'!$V$4:$V$1003,"",'Trades'!$S$4:$S$1003,"<0"))) -> -0.27275326
A28: =IF('Listes'!$C$2="","",'Listes'!$C$2) -> Entrée prématurée | B28: =IF($A28="","",COUNTIFS('Trades'!$V$4:$V$1003,$A28,'Trades'!$R$4:$R$1003,">=0")+COUNTIFS('Trades'!$V$4:$V$1003,$A28,'Trades'!$R$4:$R$1003,"<0")) -> 0 | C28: =IF($A28="","",IF(B28=0,"—",COUNTIFS('Trades'!$V$4:$V$1003,$A28,'Trades'!$R$4:$R$1003,">0")/B28)) -> — | D28: =IF($A28="","",IF(B28=0,"—",SUMIFS('Trades'!$R$4:$R$1003,'Trades'!$V$4:$V$1003,$A28))) -> — | E28: =IF($A28="","",IF(B28=0,"—",D28/B28)) -> — | F28: =IF($A28="","",IF(COUNTIFS('Trades'!$V$4:$V$1003,$A28,'Trades'!$S$4:$S$1003,">=0")+COUNTIFS('Trades'!$V$4:$V$1003,$A28,'Trades'!$S$4:$S$1003,"<0")=0,"—",SUMIFS('Trades'!$S$4:$S$1003,'Trades'!$V$4:$V$1003,$A28)/(COUNTIFS('Trades'!$V$4:$V$1003,$A28,'Trades'!$S$4:$S$1003,">=0")+COUNTIFS('Trades'!$V$4:$V$1003,$A28,'Trades'!$S$4:$S$1003,"<0")))) -> —
A29: =IF('Listes'!$C$3="","",'Listes'!$C$3) -> Entrée tardive | B29: =IF($A29="","",COUNTIFS('Trades'!$V$4:$V$1003,$A29,'Trades'!$R$4:$R$1003,">=0")+COUNTIFS('Trades'!$V$4:$V$1003,$A29,'Trades'!$R$4:$R$1003,"<0")) -> 0 | C29: =IF($A29="","",IF(B29=0,"—",COUNTIFS('Trades'!$V$4:$V$1003,$A29,'Trades'!$R$4:$R$1003,">0")/B29)) -> — | D29: =IF($A29="","",IF(B29=0,"—",SUMIFS('Trades'!$R$4:$R$1003,'Trades'!$V$4:$V$1003,$A29))) -> — | E29: =IF($A29="","",IF(B29=0,"—",D29/B29)) -> — | F29: =IF($A29="","",IF(COUNTIFS('Trades'!$V$4:$V$1003,$A29,'Trades'!$S$4:$S$1003,">=0")+COUNTIFS('Trades'!$V$4:$V$1003,$A29,'Trades'!$S$4:$S$1003,"<0")=0,"—",SUMIFS('Trades'!$S$4:$S$1003,'Trades'!$V$4:$V$1003,$A29)/(COUNTIFS('Trades'!$V$4:$V$1003,$A29,'Trades'!$S$4:$S$1003,">=0")+COUNTIFS('Trades'!$V$4:$V$1003,$A29,'Trades'!$S$4:$S$1003,"<0")))) -> —
A30: =IF('Listes'!$C$4="","",'Listes'!$C$4) -> FOMO | B30: =IF($A30="","",COUNTIFS('Trades'!$V$4:$V$1003,$A30,'Trades'!$R$4:$R$1003,">=0")+COUNTIFS('Trades'!$V$4:$V$1003,$A30,'Trades'!$R$4:$R$1003,"<0")) -> 0 | C30: =IF($A30="","",IF(B30=0,"—",COUNTIFS('Trades'!$V$4:$V$1003,$A30,'Trades'!$R$4:$R$1003,">0")/B30)) -> — | D30: =IF($A30="","",IF(B30=0,"—",SUMIFS('Trades'!$R$4:$R$1003,'Trades'!$V$4:$V$1003,$A30))) -> — | E30: =IF($A30="","",IF(B30=0,"—",D30/B30)) -> — | F30: =IF($A30="","",IF(COUNTIFS('Trades'!$V$4:$V$1003,$A30,'Trades'!$S$4:$S$1003,">=0")+COUNTIFS('Trades'!$V$4:$V$1003,$A30,'Trades'!$S$4:$S$1003,"<0")=0,"—",SUMIFS('Trades'!$S$4:$S$1003,'Trades'!$V$4:$V$1003,$A30)/(COUNTIFS('Trades'!$V$4:$V$1003,$A30,'Trades'!$S$4:$S$1003,">=0")+COUNTIFS('Trades'!$V$4:$V$1003,$A30,'Trades'!$S$4:$S$1003,"<0")))) -> —
A31: =IF('Listes'!$C$5="","",'Listes'!$C$5) -> Sans stop | B31: =IF($A31="","",COUNTIFS('Trades'!$V$4:$V$1003,$A31,'Trades'!$R$4:$R$1003,">=0")+COUNTIFS('Trades'!$V$4:$V$1003,$A31,'Trades'!$R$4:$R$1003,"<0")) -> 1 | C31: =IF($A31="","",IF(B31=0,"—",COUNTIFS('Trades'!$V$4:$V$1003,$A31,'Trades'!$R$4:$R$1003,">0")/B31)) -> 1 | D31: =IF($A31="","",IF(B31=0,"—",SUMIFS('Trades'!$R$4:$R$1003,'Trades'!$V$4:$V$1003,$A31))) -> 4148.9675 | E31: =IF($A31="","",IF(B31=0,"—",D31/B31)) -> 4148.9675 | F31: =IF($A31="","",IF(COUNTIFS('Trades'!$V$4:$V$1003,$A31,'Trades'!$S$4:$S$1003,">=0")+COUNTIFS('Trades'!$V$4:$V$1003,$A31,'Trades'!$S$4:$S$1003,"<0")=0,"—",SUMIFS('Trades'!$S$4:$S$1003,'Trades'!$V$4:$V$1003,$A31)/(COUNTIFS('Trades'!$V$4:$V$1003,$A31,'Trades'!$S$4:$S$1003,">=0")+COUNTIFS('Trades'!$V$4:$V$1003,$A31,'Trades'!$S$4:$S$1003,"<0")))) -> —
A32: =IF('Listes'!$C$6="","",'Listes'!$C$6) -> Stop déplacé | B32: =IF($A32="","",COUNTIFS('Trades'!$V$4:$V$1003,$A32,'Trades'!$R$4:$R$1003,">=0")+COUNTIFS('Trades'!$V$4:$V$1003,$A32,'Trades'!$R$4:$R$1003,"<0")) -> 0 | C32: =IF($A32="","",IF(B32=0,"—",COUNTIFS('Trades'!$V$4:$V$1003,$A32,'Trades'!$R$4:$R$1003,">0")/B32)) -> — | D32: =IF($A32="","",IF(B32=0,"—",SUMIFS('Trades'!$R$4:$R$1003,'Trades'!$V$4:$V$1003,$A32))) -> — | E32: =IF($A32="","",IF(B32=0,"—",D32/B32)) -> — | F32: =IF($A32="","",IF(COUNTIFS('Trades'!$V$4:$V$1003,$A32,'Trades'!$S$4:$S$1003,">=0")+COUNTIFS('Trades'!$V$4:$V$1003,$A32,'Trades'!$S$4:$S$1003,"<0")=0,"—",SUMIFS('Trades'!$S$4:$S$1003,'Trades'!$V$4:$V$1003,$A32)/(COUNTIFS('Trades'!$V$4:$V$1003,$A32,'Trades'!$S$4:$S$1003,">=0")+COUNTIFS('Trades'!$V$4:$V$1003,$A32,'Trades'!$S$4:$S$1003,"<0")))) -> —
A33: =IF('Listes'!$C$7="","",'Listes'!$C$7) -> Moyenne à la baisse | B33: =IF($A33="","",COUNTIFS('Trades'!$V$4:$V$1003,$A33,'Trades'!$R$4:$R$1003,">=0")+COUNTIFS('Trades'!$V$4:$V$1003,$A33,'Trades'!$R$4:$R$1003,"<0")) -> 0 | C33: =IF($A33="","",IF(B33=0,"—",COUNTIFS('Trades'!$V$4:$V$1003,$A33,'Trades'!$R$4:$R$1003,">0")/B33)) -> — | D33: =IF($A33="","",IF(B33=0,"—",SUMIFS('Trades'!$R$4:$R$1003,'Trades'!$V$4:$V$1003,$A33))) -> — | E33: =IF($A33="","",IF(B33=0,"—",D33/B33)) -> — | F33: =IF($A33="","",IF(COUNTIFS('Trades'!$V$4:$V$1003,$A33,'Trades'!$S$4:$S$1003,">=0")+COUNTIFS('Trades'!$V$4:$V$1003,$A33,'Trades'!$S$4:$S$1003,"<0")=0,"—",SUMIFS('Trades'!$S$4:$S$1003,'Trades'!$V$4:$V$1003,$A33)/(COUNTIFS('Trades'!$V$4:$V$1003,$A33,'Trades'!$S$4:$S$1003,">=0")+COUNTIFS('Trades'!$V$4:$V$1003,$A33,'Trades'!$S$4:$S$1003,"<0")))) -> —
A34: =IF('Listes'!$C$8="","",'Listes'!$C$8) -> Sortie prématurée | B34: =IF($A34="","",COUNTIFS('Trades'!$V$4:$V$1003,$A34,'Trades'!$R$4:$R$1003,">=0")+COUNTIFS('Trades'!$V$4:$V$1003,$A34,'Trades'!$R$4:$R$1003,"<0")) -> 0 | C34: =IF($A34="","",IF(B34=0,"—",COUNTIFS('Trades'!$V$4:$V$1003,$A34,'Trades'!$R$4:$R$1003,">0")/B34)) -> — | D34: =IF($A34="","",IF(B34=0,"—",SUMIFS('Trades'!$R$4:$R$1003,'Trades'!$V$4:$V$1003,$A34))) -> — | E34: =IF($A34="","",IF(B34=0,"—",D34/B34)) -> — | F34: =IF($A34="","",IF(COUNTIFS('Trades'!$V$4:$V$1003,$A34,'Trades'!$S$4:$S$1003,">=0")+COUNTIFS('Trades'!$V$4:$V$1003,$A34,'Trades'!$S$4:$S$1003,"<0")=0,"—",SUMIFS('Trades'!$S$4:$S$1003,'Trades'!$V$4:$V$1003,$A34)/(COUNTIFS('Trades'!$V$4:$V$1003,$A34,'Trades'!$S$4:$S$1003,">=0")+COUNTIFS('Trades'!$V$4:$V$1003,$A34,'Trades'!$S$4:$S$1003,"<0")))) -> —
A35: =IF('Listes'!$C$9="","",'Listes'!$C$9) -> Taille excessive | B35: =IF($A35="","",COUNTIFS('Trades'!$V$4:$V$1003,$A35,'Trades'!$R$4:$R$1003,">=0")+COUNTIFS('Trades'!$V$4:$V$1003,$A35,'Trades'!$R$4:$R$1003,"<0")) -> 0 | C35: =IF($A35="","",IF(B35=0,"—",COUNTIFS('Trades'!$V$4:$V$1003,$A35,'Trades'!$R$4:$R$1003,">0")/B35)) -> — | D35: =IF($A35="","",IF(B35=0,"—",SUMIFS('Trades'!$R$4:$R$1003,'Trades'!$V$4:$V$1003,$A35))) -> — | E35: =IF($A35="","",IF(B35=0,"—",D35/B35)) -> — | F35: =IF($A35="","",IF(COUNTIFS('Trades'!$V$4:$V$1003,$A35,'Trades'!$S$4:$S$1003,">=0")+COUNTIFS('Trades'!$V$4:$V$1003,$A35,'Trades'!$S$4:$S$1003,"<0")=0,"—",SUMIFS('Trades'!$S$4:$S$1003,'Trades'!$V$4:$V$1003,$A35)/(COUNTIFS('Trades'!$V$4:$V$1003,$A35,'Trades'!$S$4:$S$1003,">=0")+COUNTIFS('Trades'!$V$4:$V$1003,$A35,'Trades'!$S$4:$S$1003,"<0")))) -> —
A36: =IF('Listes'!$C$10="","",'Listes'!$C$10) -> Hors plan | B36: =IF($A36="","",COUNTIFS('Trades'!$V$4:$V$1003,$A36,'Trades'!$R$4:$R$1003,">=0")+COUNTIFS('Trades'!$V$4:$V$1003,$A36,'Trades'!$R$4:$R$1003,"<0")) -> 0 | C36: =IF($A36="","",IF(B36=0,"—",COUNTIFS('Trades'!$V$4:$V$1003,$A36,'Trades'!$R$4:$R$1003,">0")/B36)) -> — | D36: =IF($A36="","",IF(B36=0,"—",SUMIFS('Trades'!$R$4:$R$1003,'Trades'!$V$4:$V$1003,$A36))) -> — | E36: =IF($A36="","",IF(B36=0,"—",D36/B36)) -> — | F36: =IF($A36="","",IF(COUNTIFS('Trades'!$V$4:$V$1003,$A36,'Trades'!$S$4:$S$1003,">=0")+COUNTIFS('Trades'!$V$4:$V$1003,$A36,'Trades'!$S$4:$S$1003,"<0")=0,"—",SUMIFS('Trades'!$S$4:$S$1003,'Trades'!$V$4:$V$1003,$A36)/(COUNTIFS('Trades'!$V$4:$V$1003,$A36,'Trades'!$S$4:$S$1003,">=0")+COUNTIFS('Trades'!$V$4:$V$1003,$A36,'Trades'!$S$4:$S$1003,"<0")))) -> —
A37: =IF('Listes'!$C$11="","",'Listes'!$C$11) -> Revenge trade | B37: =IF($A37="","",COUNTIFS('Trades'!$V$4:$V$1003,$A37,'Trades'!$R$4:$R$1003,">=0")+COUNTIFS('Trades'!$V$4:$V$1003,$A37,'Trades'!$R$4:$R$1003,"<0")) -> 0 | C37: =IF($A37="","",IF(B37=0,"—",COUNTIFS('Trades'!$V$4:$V$1003,$A37,'Trades'!$R$4:$R$1003,">0")/B37)) -> — | D37: =IF($A37="","",IF(B37=0,"—",SUMIFS('Trades'!$R$4:$R$1003,'Trades'!$V$4:$V$1003,$A37))) -> — | E37: =IF($A37="","",IF(B37=0,"—",D37/B37)) -> — | F37: =IF($A37="","",IF(COUNTIFS('Trades'!$V$4:$V$1003,$A37,'Trades'!$S$4:$S$1003,">=0")+COUNTIFS('Trades'!$V$4:$V$1003,$A37,'Trades'!$S$4:$S$1003,"<0")=0,"—",SUMIFS('Trades'!$S$4:$S$1003,'Trades'!$V$4:$V$1003,$A37)/(COUNTIFS('Trades'!$V$4:$V$1003,$A37,'Trades'!$S$4:$S$1003,">=0")+COUNTIFS('Trades'!$V$4:$V$1003,$A37,'Trades'!$S$4:$S$1003,"<0")))) -> —
A38: =IF('Listes'!$C$12="","",'Listes'!$C$12) | B38: =IF($A38="","",COUNTIFS('Trades'!$V$4:$V$1003,$A38,'Trades'!$R$4:$R$1003,">=0")+COUNTIFS('Trades'!$V$4:$V$1003,$A38,'Trades'!$R$4:$R$1003,"<0")) | C38: =IF($A38="","",IF(B38=0,"—",COUNTIFS('Trades'!$V$4:$V$1003,$A38,'Trades'!$R$4:$R$1003,">0")/B38)) | D38: =IF($A38="","",IF(B38=0,"—",SUMIFS('Trades'!$R$4:$R$1003,'Trades'!$V$4:$V$1003,$A38))) | E38: =IF($A38="","",IF(B38=0,"—",D38/B38)) | F38: =IF($A38="","",IF(COUNTIFS('Trades'!$V$4:$V$1003,$A38,'Trades'!$S$4:$S$1003,">=0")+COUNTIFS('Trades'!$V$4:$V$1003,$A38,'Trades'!$S$4:$S$1003,"<0")=0,"—",SUMIFS('Trades'!$S$4:$S$1003,'Trades'!$V$4:$V$1003,$A38)/(COUNTIFS('Trades'!$V$4:$V$1003,$A38,'Trades'!$S$4:$S$1003,">=0")+COUNTIFS('Trades'!$V$4:$V$1003,$A38,'Trades'!$S$4:$S$1003,"<0"))))
A39: =IF('Listes'!$C$13="","",'Listes'!$C$13) | B39: =IF($A39="","",COUNTIFS('Trades'!$V$4:$V$1003,$A39,'Trades'!$R$4:$R$1003,">=0")+COUNTIFS('Trades'!$V$4:$V$1003,$A39,'Trades'!$R$4:$R$1003,"<0")) | C39: =IF($A39="","",IF(B39=0,"—",COUNTIFS('Trades'!$V$4:$V$1003,$A39,'Trades'!$R$4:$R$1003,">0")/B39)) | D39: =IF($A39="","",IF(B39=0,"—",SUMIFS('Trades'!$R$4:$R$1003,'Trades'!$V$4:$V$1003,$A39))) | E39: =IF($A39="","",IF(B39=0,"—",D39/B39)) | F39: =IF($A39="","",IF(COUNTIFS('Trades'!$V$4:$V$1003,$A39,'Trades'!$S$4:$S$1003,">=0")+COUNTIFS('Trades'!$V$4:$V$1003,$A39,'Trades'!$S$4:$S$1003,"<0")=0,"—",SUMIFS('Trades'!$S$4:$S$1003,'Trades'!$V$4:$V$1003,$A39)/(COUNTIFS('Trades'!$V$4:$V$1003,$A39,'Trades'!$S$4:$S$1003,">=0")+COUNTIFS('Trades'!$V$4:$V$1003,$A39,'Trades'!$S$4:$S$1003,"<0"))))
A40: =IF('Listes'!$C$14="","",'Listes'!$C$14) | B40: =IF($A40="","",COUNTIFS('Trades'!$V$4:$V$1003,$A40,'Trades'!$R$4:$R$1003,">=0")+COUNTIFS('Trades'!$V$4:$V$1003,$A40,'Trades'!$R$4:$R$1003,"<0")) | C40: =IF($A40="","",IF(B40=0,"—",COUNTIFS('Trades'!$V$4:$V$1003,$A40,'Trades'!$R$4:$R$1003,">0")/B40)) | D40: =IF($A40="","",IF(B40=0,"—",SUMIFS('Trades'!$R$4:$R$1003,'Trades'!$V$4:$V$1003,$A40))) | E40: =IF($A40="","",IF(B40=0,"—",D40/B40)) | F40: =IF($A40="","",IF(COUNTIFS('Trades'!$V$4:$V$1003,$A40,'Trades'!$S$4:$S$1003,">=0")+COUNTIFS('Trades'!$V$4:$V$1003,$A40,'Trades'!$S$4:$S$1003,"<0")=0,"—",SUMIFS('Trades'!$S$4:$S$1003,'Trades'!$V$4:$V$1003,$A40)/(COUNTIFS('Trades'!$V$4:$V$1003,$A40,'Trades'!$S$4:$S$1003,">=0")+COUNTIFS('Trades'!$V$4:$V$1003,$A40,'Trades'!$S$4:$S$1003,"<0"))))
A41: =IF('Listes'!$C$15="","",'Listes'!$C$15) | B41: =IF($A41="","",COUNTIFS('Trades'!$V$4:$V$1003,$A41,'Trades'!$R$4:$R$1003,">=0")+COUNTIFS('Trades'!$V$4:$V$1003,$A41,'Trades'!$R$4:$R$1003,"<0")) | C41: =IF($A41="","",IF(B41=0,"—",COUNTIFS('Trades'!$V$4:$V$1003,$A41,'Trades'!$R$4:$R$1003,">0")/B41)) | D41: =IF($A41="","",IF(B41=0,"—",SUMIFS('Trades'!$R$4:$R$1003,'Trades'!$V$4:$V$1003,$A41))) | E41: =IF($A41="","",IF(B41=0,"—",D41/B41)) | F41: =IF($A41="","",IF(COUNTIFS('Trades'!$V$4:$V$1003,$A41,'Trades'!$S$4:$S$1003,">=0")+COUNTIFS('Trades'!$V$4:$V$1003,$A41,'Trades'!$S$4:$S$1003,"<0")=0,"—",SUMIFS('Trades'!$S$4:$S$1003,'Trades'!$V$4:$V$1003,$A41)/(COUNTIFS('Trades'!$V$4:$V$1003,$A41,'Trades'!$S$4:$S$1003,">=0")+COUNTIFS('Trades'!$V$4:$V$1003,$A41,'Trades'!$S$4:$S$1003,"<0"))))
A42: =IF('Listes'!$C$16="","",'Listes'!$C$16) | B42: =IF($A42="","",COUNTIFS('Trades'!$V$4:$V$1003,$A42,'Trades'!$R$4:$R$1003,">=0")+COUNTIFS('Trades'!$V$4:$V$1003,$A42,'Trades'!$R$4:$R$1003,"<0")) | C42: =IF($A42="","",IF(B42=0,"—",COUNTIFS('Trades'!$V$4:$V$1003,$A42,'Trades'!$R$4:$R$1003,">0")/B42)) | D42: =IF($A42="","",IF(B42=0,"—",SUMIFS('Trades'!$R$4:$R$1003,'Trades'!$V$4:$V$1003,$A42))) | E42: =IF($A42="","",IF(B42=0,"—",D42/B42)) | F42: =IF($A42="","",IF(COUNTIFS('Trades'!$V$4:$V$1003,$A42,'Trades'!$S$4:$S$1003,">=0")+COUNTIFS('Trades'!$V$4:$V$1003,$A42,'Trades'!$S$4:$S$1003,"<0")=0,"—",SUMIFS('Trades'!$S$4:$S$1003,'Trades'!$V$4:$V$1003,$A42)/(COUNTIFS('Trades'!$V$4:$V$1003,$A42,'Trades'!$S$4:$S$1003,">=0")+COUNTIFS('Trades'!$V$4:$V$1003,$A42,'Trades'!$S$4:$S$1003,"<0"))))
...

Sheet Mode d’emploi
A1: Mode d’emploi de ce journal
A3: Les bases
A4: Un trade, une ligne | B4: Saisissez les trades dans l’ordre de leur clôture : le cumul et le drawdown se calculent de haut en bas.
A5: Colonnes blanches et grises | B5: Vous remplissez les blanches ; les grises se calculent seules. Tapez les nombres sans « $ » ni « USDT ».
A6: Exemples | B6: Les lignes 4–8 de « Trades » sont des exemples : cinq vrais trades de l’auteur sur Binance, tirés de son journal public app.foqus.pro/t/FOQUS. Leur stop est celui qui était en place à la clôture : la page publique, vue par un visiteur, ne montre que celui-là. Supprimez-les entièrement : sélectionnez les numéros de ligne, clic droit → Supprimer.
A7: L’heure en UTC | B7: Ainsi, les trades de différents exchanges et terminaux se rangent dans un seul ordre.
A8: Les trades ouverts | B8: Un trade sans prix de sortie compte comme ouvert : il entre dans les statistiques une fois qu’il a une sortie.
A9: Vos propres listes | B9: Mettez vos setups, vos erreurs et vos émotions sur la feuille « Listes » : ils apparaissent dans les listes déroulantes et dans les statistiques.
A11: Les colonnes de « Trades »
A12: Colonne | B12: Ce qu’il faut saisir | C12: Exemple
A13: Ouverture, UTC | B13: Date et heure d’entrée en UTC. | C13: 28/08/2026 02:38
A14: Symbole | B14: L’instrument tel que le nomme l’exchange ou le terminal : BTCUSDT, EURUSD. | C14: BTRUSDT
A15: Sens | B15: LONG pour acheter, SHORT pour vendre. | C15: LONG
A16: Exchange | B16: Où vous avez tradé. | C16: Binance
A17: Entrée | B17: Prix d’entrée moyen. Entré en plusieurs fois ? La moyenne de toutes les exécutions. | C17: 0,1573143
A18: Quantité | B18: Combien vous avez acheté ou vendu : des coins, des lots ou des contrats. | C18: 193652
A19: Taille de contrat | B19: Coins ou unités dans un lot ou un contrat. Vide = 1 : la quantité est déjà en coins. Dans MetaTrader 5, c’est la « Taille de contrat » de la spécification du symbole : clic droit dans « Observation du Marché » → « Spécifications ». | C19: vide
A20: Stop | B20: Le stop que vous aviez à l’entrée. Même si vous l’avez déplacé ensuite, saisissez le premier : le risque et le R se calculent à partir de lui. | C20: 0,14698
A21: Take profit | B21: Le take profit à l’entrée. Peut rester vide. | C21: 0,17796
A22: Solde à l’entrée, $ | B22: Le solde du compte avant le trade. Nécessaire pour le risque et le PnL en % du solde ; peut rester vide.
A23: Clôture, UTC | B23: Date et heure de sortie en UTC. | C23: 28/08/2026 12:42
A24: Sortie | B24: Prix de sortie moyen. Tant qu’il est vide, le trade est ouvert et reste hors des statistiques. | C24: 0,1647912
A25: Frais, $ | B25: Les frais d’entrée et de sortie, en nombre positif. Ils figurent dans l’historique des trades de l’exchange ou du terminal. | C25: 31,19
A26: Funding / swap, $ | B26: Avec son signe : reçu, c’est plus ; payé, c’est moins. Le funding est ce que se versent les longs et les shorts sur les futures perpétuels ; le swap est le coût d’une position gardée la nuit. | C26: −44,82
A27: Risque, $ | B27: Calculé : |entrée − stop| × quantité × taille de contrat. Ce que vous perdriez au stop, avant frais. | C27: 2 001,26
A28: Risque, % du solde | B28: Calculé : risque ÷ solde à l’entrée.
A29: PnL brut, $ | B29: Calculé : (sortie − entrée) × quantité × taille de contrat, avec le signe inversé pour un SHORT. Avant frais et funding. | C29: +1 447,92
A30: PnL net, $ | B30: Calculé : PnL brut − frais + funding. Ce qui est arrivé sur le compte. | C30: +1 371,91
A31: R | B31: Calculé : PnL net ÷ risque. Le résultat en multiples de votre risque : gagné (+) ou perdu (−). | C31: +0,69
A32: PnL, % du solde | B32: Calculé : PnL net ÷ solde à l’entrée.
A33: Setup | B33: Le setup que vous avez tradé. | C33: Cassure
A34: Erreur | B34: L’erreur principale du trade. Vide = un trade sans erreur. | C34: Sans stop
A35: Émotion | B35: Votre état d’esprit à l’entrée. | C35: Calme
A36: Conviction, 1–5 | B36: 1 = dans le doute, 5 = pleinement convaincu. | C36: 4
A37: Commentaire | B37: Pourquoi vous êtes entré, ce qui n’a pas marché, ce qu’il faudrait faire autrement.
A38: Capture d’écran | B38: Lien vers une capture du graphique à l’entrée.
A39: Cumul, $ | B39: Calculé : le PnL net additionné du premier trade jusqu’à celui-ci.
A40: Drawdown, $ | B40: Calculé : de combien le cumul se trouve sous son meilleur niveau.
A41: Semaine du | B41: Calculé : le lundi de la semaine de clôture. Le tableau « Par semaine » est construit à partir de lui.
A43: Quand un instrument est coté autrement
...

Sheet Listes
A1: Exchanges | B1: Setups | C1: Erreurs | D1: Émotions | F1: Modifiez et complétez les listes : jusqu’à 20 éléments dans chacune.
A2: Binance | B2: Cassure | C2: Entrée prématurée | D2: Calme | F2: Elles apparaissent dans les listes déroulantes de la feuille « Trades » et dans les tableaux de « Statistiques ».
A3: Bybit | B3: Rebond sur niveau | C3: Entrée tardive | D3: Confiance
A4: OKX | B4: Retest | C4: FOMO | D4: Euphorie
A5: MetaTrader 5 | B5: Avec la tendance | C5: Sans stop | D5: Peur
B6: Contre la tendance | C6: Stop déplacé | D6: Cupidité
B7: Range | C7: Moyenne à la baisse | D7: Ennui
B8: News | C8: Sortie prématurée | D8: Colère
C9: Taille excessive | D9: Fatigue
C10: Hors plan
C11: Revenge trade
